BEGIN:VCALENDAR
VERSION:2.0
PRODID:-//hacksw/handcal//NONSGML v1.0//EN
CALSCALE:GREGORIAN
BEGIN:VEVENT
SUMMARY:Levins Mühle
DTSTART:20260429T173000Z
LOCATION:Clubkino im Lingnerschloss\, Bautzner Straße 132\, 01099 Dresden
DESCRIPTION:
URL;VALUE=URI:http://www.umland.kika-dresden.de/termin1587085.html
DTSTAMP:20260422T101152Z
UID:69e89ee807830
END:VEVENT
END:VCALENDAR