BEGIN:VCALENDAR
VERSION:2.0
PRODID:-//hacksw/handcal//NONSGML v1.0//EN
CALSCALE:GREGORIAN
BEGIN:VEVENT
SUMMARY:Allegro Pastell
DTSTART:20260427T160000Z
DTEND:20260427T181000Z
GEO:51.06687;13.75428
LOCATION:Thalia\, Görlitzer Str. 6\, 01099 Dresden-Neustadt
DESCRIPTION:
URL;VALUE=URI:http://www.umland.kika-dresden.de/termin1590109.html
DTSTAMP:20260424T130727Z
UID:69eb6b0fd70fe
END:VEVENT
END:VCALENDAR