BEGIN:VCALENDAR
VERSION:2.0
PRODID:-//hacksw/handcal//NONSGML v1.0//EN
CALSCALE:GREGORIAN
BEGIN:VEVENT
SUMMARY:RUMÄNIEN - Land jenseits der Wälder
DTSTART:20261129T130000Z
GEO:51.07124;13.75051
LOCATION:Filmtheater Schauburg\, Königsbrücker Straße 55\, 01099 Dresden
DESCRIPTION:
URL;VALUE=URI:http://www.umland.kika-dresden.de/termin1590130.html
DTSTAMP:20260419T142601Z
UID:69e4e5f9ec8be
END:VEVENT
END:VCALENDAR