BEGIN:VCALENDAR
VERSION:2.0
PRODID:-//hacksw/handcal//NONSGML v1.0//EN
CALSCALE:GREGORIAN
BEGIN:VEVENT
SUMMARY:Humorzone 2027: SCIENCE BUSTERS FOR KIDS 
DTSTART:20270312T090000Z
GEO:51.07124;13.75051
LOCATION:Filmtheater Schauburg\, Königsbrücker Straße 55\, 01099 Dresden
DESCRIPTION:
URL;VALUE=URI:http://www.umland.kika-dresden.de/termin1590138.html
DTSTAMP:20260420T085237Z
UID:69e5e95584c84
END:VEVENT
END:VCALENDAR