BEGIN:VCALENDAR
VERSION:2.0
PRODID:-//hacksw/handcal//NONSGML v1.0//EN
CALSCALE:GREGORIAN
BEGIN:VEVENT
SUMMARY:PATAGONIEN – Der Ruf der Wildnis
DTSTART:20261122T160000Z
GEO:51.07124;13.75051
LOCATION:Filmtheater Schauburg\, Königsbrücker Straße 55\, 01099 Dresden
DESCRIPTION:
URL;VALUE=URI:http://www.umland.kika-dresden.de/termin1590844.html
DTSTAMP:20260420T084050Z
UID:69e5e69267e60
END:VEVENT
END:VCALENDAR