BEGIN:VCALENDAR
VERSION:2.0
PRODID:-//hacksw/handcal//NONSGML v1.0//EN
CALSCALE:GREGORIAN
BEGIN:VEVENT
SUMMARY:Die Werckmeisterschen Harmonie
DTSTART:20260413T181500Z
DTEND:20260413T211000Z
GEO:51.052574;13.721402
LOCATION:Zentralkino\, Kraftwerk Mitte 16\, 01067 Dresden-Mitte
DESCRIPTION:
URL;VALUE=URI:http://www.umland.kika-dresden.de/termin1593029.html
DTSTAMP:20260421T222600Z
UID:69e7f97828668
END:VEVENT
END:VCALENDAR