BEGIN:VCALENDAR
VERSION:2.0
PRODID:-//hacksw/handcal//NONSGML v1.0//EN
CALSCALE:GREGORIAN
BEGIN:VEVENT
SUMMARY:Nationaler Wettbewerb 2
DTSTART:20260417T170000Z
GEO:51.052574;13.721402
LOCATION:Zentralkino\, Kraftwerk Mitte 16\, 01067 Dresden-Mitte
DESCRIPTION:
URL;VALUE=URI:http://www.umland.kika-dresden.de/termin1593031.html
DTSTAMP:20260420T101237Z
UID:69e5fc1554696
END:VEVENT
END:VCALENDAR