BEGIN:VCALENDAR
VERSION:2.0
PRODID:-//hacksw/handcal//NONSGML v1.0//EN
CALSCALE:GREGORIAN
BEGIN:VEVENT
SUMMARY:Platte mit Aussicht - Über das Neubaugebiet Dresden-Gorbitz
DTSTART:20260420T170000Z
DTEND:20260420T185000Z
GEO:51.04594;13.67510
LOCATION:Passage\, Leutewitzer Ring 5\, 01169 Dresden
DESCRIPTION:
URL;VALUE=URI:http://www.umland.kika-dresden.de/termin1593219.html
DTSTAMP:20260424T083017Z
UID:69eb2a1989fcb
END:VEVENT
END:VCALENDAR