BEGIN:VCALENDAR
VERSION:2.0
PRODID:-//hacksw/handcal//NONSGML v1.0//EN
CALSCALE:GREGORIAN
BEGIN:VEVENT
SUMMARY:Hot Fuzz - Zwei abgewichste Profis
DTSTART:20260430T180000Z
GEO:51.02978;13.75598
LOCATION:KiK - Kino im Kasten\, August-Bebel-Straße 20\, 01219 Dresden
DESCRIPTION:
URL;VALUE=URI:http://www.umland.kika-dresden.de/termin1593235.html
DTSTAMP:20260419T125809Z
UID:69e4d161bc137
END:VEVENT
END:VCALENDAR