BEGIN:VCALENDAR
VERSION:2.0
PRODID:-//hacksw/handcal//NONSGML v1.0//EN
CALSCALE:GREGORIAN
BEGIN:VEVENT
SUMMARY:Meine Wiedergeburt als Schleim in einer anderen Welt\, Der Film: Tränen des azurblauen Meers
DTSTART:20260428T180000Z
DTEND:20260428T202400Z
GEO:51.04384;13.73755
LOCATION:Cineplex Kristallpalast Dresden\, St. Petersburger Straße 24a\, 01069 Dresden
DESCRIPTION:
URL;VALUE=URI:http://www.umland.kika-dresden.de/termin1593854.html
DTSTAMP:20260425T031527Z
UID:69ec31cf6f600
END:VEVENT
END:VCALENDAR