BEGIN:VCALENDAR
VERSION:2.0
PRODID:-//hacksw/handcal//NONSGML v1.0//EN
CALSCALE:GREGORIAN
BEGIN:VEVENT
SUMMARY:Meine Wiedergeburt als Schleim in einer anderen Welt\, Der Film: Die Tränen des azurblauen Meeres
DTSTART:20260503T151500Z
DTEND:20260503T173900Z
GEO:51.04384;13.73755
LOCATION:Cineplex Kristallpalast Dresden\, St. Petersburger Straße 24a\, 01069 Dresden
DESCRIPTION:
URL;VALUE=URI:http://www.umland.kika-dresden.de/termin1593855.html
DTSTAMP:20260426T014617Z
UID:69ed6e6916d31
END:VEVENT
END:VCALENDAR