BEGIN:VCALENDAR
VERSION:2.0
PRODID:-//hacksw/handcal//NONSGML v1.0//EN
CALSCALE:GREGORIAN
BEGIN:VEVENT
SUMMARY:Die Heinzels - Neue Mützen\, neue Mission
DTSTART:20260426T100000Z
DTEND:20260426T114600Z
GEO:51.04384;13.73755
LOCATION:Cineplex Kristallpalast Dresden\, St. Petersburger Straße 24a\, 01069 Dresden
DESCRIPTION:
URL;VALUE=URI:http://www.umland.kika-dresden.de/termin1593922.html
DTSTAMP:20260423T091506Z
UID:69e9e31a52c5a
END:VEVENT
END:VCALENDAR