BEGIN:VCALENDAR
VERSION:2.0
PRODID:-//hacksw/handcal//NONSGML v1.0//EN
CALSCALE:GREGORIAN
BEGIN:VEVENT
SUMMARY:SCHWERPUNKT 1:  What a Way to Make a Living!
DTSTART:20260414T193000Z
GEO:51.07124;13.75051
LOCATION:Filmtheater Schauburg\, Königsbrücker Straße 55\, 01099 Dresden
DESCRIPTION:
URL;VALUE=URI:http://www.umland.kika-dresden.de/termin1594215.html
DTSTAMP:20260423T092917Z
UID:69e9e66d6f836
END:VEVENT
END:VCALENDAR