BEGIN:VCALENDAR
VERSION:2.0
PRODID:-//hacksw/handcal//NONSGML v1.0//EN
CALSCALE:GREGORIAN
BEGIN:VEVENT
SUMMARY:Diskurs Europa 1: Spiele mit Spiegeln – Experimentelle Amateurfilme aus Lettland der 1970er und 1980er Jahre
DTSTART:20260418T181500Z
GEO:51.07124;13.75051
LOCATION:Filmtheater Schauburg\, Königsbrücker Straße 55\, 01099 Dresden
DESCRIPTION:
URL;VALUE=URI:http://www.umland.kika-dresden.de/termin1594562.html
DTSTAMP:20260426T004107Z
UID:69ed5f23d9f37
END:VEVENT
END:VCALENDAR