BEGIN:VCALENDAR
VERSION:2.0
PRODID:-//hacksw/handcal//NONSGML v1.0//EN
CALSCALE:GREGORIAN
BEGIN:VEVENT
SUMMARY:Preisverleihung GOLDENER REITER 2026
DTSTART:20260418T180000Z
GEO:51.07124;13.75051
LOCATION:Filmtheater Schauburg\, Königsbrücker Straße 55\, 01099 Dresden
DESCRIPTION:
URL;VALUE=URI:http://www.umland.kika-dresden.de/termin1594564.html
DTSTAMP:20260423T142340Z
UID:69ea2b6c3377a
END:VEVENT
END:VCALENDAR