BEGIN:VCALENDAR
VERSION:2.0
PRODID:-//hacksw/handcal//NONSGML v1.0//EN
CALSCALE:GREGORIAN
BEGIN:VEVENT
SUMMARY:Kids 3: NIEMAND IST PERFEKT
DTSTART:20260418T113000Z
DTEND:20260418T132000Z
GEO:51.07124;13.75051
LOCATION:Filmtheater Schauburg\, Königsbrücker Straße 55\, 01099 Dresden
DESCRIPTION:
URL;VALUE=URI:http://www.umland.kika-dresden.de/termin1594565.html
DTSTAMP:20260423T111854Z
UID:69ea001e0c9a2
END:VEVENT
END:VCALENDAR