BEGIN:VCALENDAR
VERSION:2.0
PRODID:-//hacksw/handcal//NONSGML v1.0//EN
CALSCALE:GREGORIAN
BEGIN:VEVENT
SUMMARY:Les Misérables - Die Geschichte von Jean Valjean
DTSTART:20260407T184500Z
DTEND:20260407T205300Z
GEO:51.052574;13.721402
LOCATION:Zentralkino\, Kraftwerk Mitte 16\, 01067 Dresden-Mitte
DESCRIPTION:
URL;VALUE=URI:http://www.umland.kika-dresden.de/termin1594902.html
DTSTAMP:20260423T090620Z
UID:69e9e10c06eb3
END:VEVENT
END:VCALENDAR