BEGIN:VCALENDAR
VERSION:2.0
PRODID:-//hacksw/handcal//NONSGML v1.0//EN
CALSCALE:GREGORIAN
BEGIN:VEVENT
SUMMARY:Meine Freundin Conni - Abenteuer mt Kranich Klaus
DTSTART:20260510T123000Z
DTEND:20260510T141800Z
GEO:51.04487;13.73697
LOCATION:Rundkino Dresden\, Prager Straße 6\, 01069 Dresden
DESCRIPTION:
URL;VALUE=URI:http://www.umland.kika-dresden.de/termin1595506.html
DTSTAMP:20260424T085014Z
UID:69eb2ec6b0cea
END:VEVENT
END:VCALENDAR