BEGIN:VCALENDAR
VERSION:2.0
PRODID:-//hacksw/handcal//NONSGML v1.0//EN
CALSCALE:GREGORIAN
BEGIN:VEVENT
SUMMARY:The Housemaid - Wenn Sie wüsste
DTSTART:20260406T171500Z
DTEND:20260406T195600Z
GEO:51.08285;13.69562
LOCATION:UCI-Kinowelt\, Lommatzscher Straße 82\, Elbepark\, 01139 Dresden-Mickten
DESCRIPTION:
URL;VALUE=URI:http://www.umland.kika-dresden.de/termin1595978.html
DTSTAMP:20260419T125735Z
UID:69e4d13f2e703
END:VEVENT
END:VCALENDAR