BEGIN:VCALENDAR
VERSION:2.0
PRODID:-//hacksw/handcal//NONSGML v1.0//EN
CALSCALE:GREGORIAN
BEGIN:VEVENT
SUMMARY:Lustiges Pettersson und Findus Mitmachkino 2
DTSTART:20260405T124000Z
DTEND:20260405T141000Z
GEO:51.05182;13.80533
LOCATION:CinemaxX\, Hüblerstr. 8\, 01309 Dresden
DESCRIPTION:
URL;VALUE=URI:http://www.umland.kika-dresden.de/termin1596203.html
DTSTAMP:20260426T000048Z
UID:69ed55b0be780
END:VEVENT
END:VCALENDAR