BEGIN:VCALENDAR
VERSION:2.0
PRODID:-//hacksw/handcal//NONSGML v1.0//EN
CALSCALE:GREGORIAN
BEGIN:VEVENT
SUMMARY:Segeljungs - Mit Null Ahnung um die Welt
DTSTART:20260405T101500Z
DTEND:20260405T124600Z
GEO:51.07124;13.75051
LOCATION:Filmtheater Schauburg\, Königsbrücker Straße 55\, 01099 Dresden
DESCRIPTION:
URL;VALUE=URI:http://www.umland.kika-dresden.de/termin1596365.html
DTSTAMP:20260419T143906Z
UID:69e4e90aaa447
END:VEVENT
END:VCALENDAR