BEGIN:VCALENDAR
VERSION:2.0
PRODID:-//hacksw/handcal//NONSGML v1.0//EN
CALSCALE:GREGORIAN
BEGIN:VEVENT
SUMMARY:Father Mother Sister Brother
DTSTART:20260406T201500Z
DTEND:20260406T223600Z
GEO:51.07124;13.75051
LOCATION:Filmtheater Schauburg\, Königsbrücker Straße 55\, 01099 Dresden
DESCRIPTION:
URL;VALUE=URI:http://www.umland.kika-dresden.de/termin1596433.html
DTSTAMP:20260419T142704Z
UID:69e4e63867b9e
END:VEVENT
END:VCALENDAR