BEGIN:VCALENDAR
VERSION:2.0
PRODID:-//hacksw/handcal//NONSGML v1.0//EN
CALSCALE:GREGORIAN
BEGIN:VEVENT
SUMMARY:Tommy Tom - Ein neuer Freund für Tommy Tom
DTSTART:20260406T073000Z
DTEND:20260406T090000Z
GEO:51.07124;13.75051
LOCATION:Filmtheater Schauburg\, Königsbrücker Straße 55\, 01099 Dresden
DESCRIPTION:
URL;VALUE=URI:http://www.umland.kika-dresden.de/termin1596434.html
DTSTAMP:20260424T110641Z
UID:69eb4ec1dd4b0
END:VEVENT
END:VCALENDAR