BEGIN:VCALENDAR
VERSION:2.0
PRODID:-//hacksw/handcal//NONSGML v1.0//EN
CALSCALE:GREGORIAN
BEGIN:VEVENT
SUMMARY:Woodwalkers 2
DTSTART:20260407T120000Z
DTEND:20260407T141200Z
GEO:51.07124;13.75051
LOCATION:Filmtheater Schauburg\, Königsbrücker Straße 55\, 01099 Dresden
DESCRIPTION:
URL;VALUE=URI:http://www.umland.kika-dresden.de/termin1596468.html
DTSTAMP:20260423T091111Z
UID:69e9e22fa78c5
END:VEVENT
END:VCALENDAR