BEGIN:VCALENDAR
VERSION:2.0
PRODID:-//hacksw/handcal//NONSGML v1.0//EN
CALSCALE:GREGORIAN
BEGIN:VEVENT
SUMMARY:Der Magier Im Kreml
DTSTART:20260414T183000Z
DTEND:20260414T212500Z
GEO:51.052574;13.721402
LOCATION:Zentralkino\, Kraftwerk Mitte 16\, 01067 Dresden-Mitte
DESCRIPTION:
URL;VALUE=URI:http://www.umland.kika-dresden.de/termin1596538.html
DTSTAMP:20260420T202444Z
UID:69e68b8ca716f
END:VEVENT
END:VCALENDAR