BEGIN:VCALENDAR
VERSION:2.0
PRODID:-//hacksw/handcal//NONSGML v1.0//EN
CALSCALE:GREGORIAN
BEGIN:VEVENT
SUMMARY:How to Make a Killing - Todsicheres Erbe
DTSTART:20260414T152500Z
DTEND:20260414T174000Z
GEO:51.04487;13.73697
LOCATION:Rundkino Dresden\, Prager Straße 6\, 01069 Dresden
DESCRIPTION:
URL;VALUE=URI:http://www.umland.kika-dresden.de/termin1597246.html
DTSTAMP:20260423T215744Z
UID:69ea95d8019f1
END:VEVENT
END:VCALENDAR