BEGIN:VCALENDAR
VERSION:2.0
PRODID:-//hacksw/handcal//NONSGML v1.0//EN
CALSCALE:GREGORIAN
BEGIN:VEVENT
SUMMARY:Der Magier Im Kreml
DTSTART:20260420T153000Z
DTEND:20260420T182500Z
GEO:51.052574;13.721402
LOCATION:Zentralkino\, Kraftwerk Mitte 16\, 01067 Dresden-Mitte
DESCRIPTION:
URL;VALUE=URI:http://www.umland.kika-dresden.de/termin1598103.html
DTSTAMP:20260424T163348Z
UID:69eb9b6cca839
END:VEVENT
END:VCALENDAR