BEGIN:VCALENDAR
VERSION:2.0
PRODID:-//hacksw/handcal//NONSGML v1.0//EN
CALSCALE:GREGORIAN
BEGIN:VEVENT
SUMMARY:Paris Murder Mystery
DTSTART:20260420T180000Z
DTEND:20260420T201500Z
GEO:51.03911;13.80653
LOCATION:Programmkino Ost\, Schandauer Straße 73\, 01277 Dresden-Striesen
DESCRIPTION:
URL;VALUE=URI:http://www.umland.kika-dresden.de/termin1598332.html
DTSTAMP:20260421T113102Z
UID:69e75ff65f907
END:VEVENT
END:VCALENDAR