BEGIN:VCALENDAR
VERSION:2.0
PRODID:-//hacksw/handcal//NONSGML v1.0//EN
CALSCALE:GREGORIAN
BEGIN:VEVENT
SUMMARY:Shelter
DTSTART:20260416T182500Z
DTEND:20260416T203800Z
GEO:51.08285;13.69562
LOCATION:UCI-Kinowelt\, Lommatzscher Straße 82\, Elbepark\, 01139 Dresden-Mickten
DESCRIPTION:
URL;VALUE=URI:http://www.umland.kika-dresden.de/termin1598596.html
DTSTAMP:20260420T101219Z
UID:69e5fc0383b2d
END:VEVENT
END:VCALENDAR