BEGIN:VCALENDAR
VERSION:2.0
PRODID:-//hacksw/handcal//NONSGML v1.0//EN
CALSCALE:GREGORIAN
BEGIN:VEVENT
SUMMARY:They Will Kill You
DTSTART:20260415T182500Z
DTEND:20260415T202900Z
GEO:51.08285;13.69562
LOCATION:UCI-Kinowelt\, Lommatzscher Straße 82\, Elbepark\, 01139 Dresden-Mickten
DESCRIPTION:
URL;VALUE=URI:http://www.umland.kika-dresden.de/termin1598601.html
DTSTAMP:20260424T171540Z
UID:69eba53c03d59
END:VEVENT
END:VCALENDAR