BEGIN:VCALENDAR
VERSION:2.0
PRODID:-//hacksw/handcal//NONSGML v1.0//EN
CALSCALE:GREGORIAN
BEGIN:VEVENT
SUMMARY:Normal
DTSTART:20260418T205000Z
DTEND:20260418T225300Z
GEO:51.04487;13.73697
LOCATION:Rundkino Dresden\, Prager Straße 6\, 01069 Dresden
DESCRIPTION:
URL;VALUE=URI:http://www.umland.kika-dresden.de/termin1598618.html
DTSTAMP:20260419T191326Z
UID:69e5295613a0a
END:VEVENT
END:VCALENDAR