BEGIN:VCALENDAR
VERSION:2.0
PRODID:-//hacksw/handcal//NONSGML v1.0//EN
CALSCALE:GREGORIAN
BEGIN:VEVENT
SUMMARY:Vaazha II: Biopic of a Billion Bros
DTSTART:20260422T120000Z
GEO:51.04487;13.73697
LOCATION:Rundkino Dresden\, Prager Straße 6\, 01069 Dresden
DESCRIPTION:
URL;VALUE=URI:http://www.umland.kika-dresden.de/termin1598684.html
DTSTAMP:20260423T012746Z
UID:69e97592e4ac6
END:VEVENT
END:VCALENDAR