BEGIN:VCALENDAR
VERSION:2.0
PRODID:-//hacksw/handcal//NONSGML v1.0//EN
CALSCALE:GREGORIAN
BEGIN:VEVENT
SUMMARY:Kill Bill: The Whole Bloody Affair
DTSTART:20260419T150000Z
DTEND:20260419T200500Z
GEO:51.04384;13.73755
LOCATION:Cineplex Kristallpalast Dresden\, St. Petersburger Straße 24a\, 01069 Dresden
DESCRIPTION:
URL;VALUE=URI:http://www.umland.kika-dresden.de/termin1598775.html
DTSTAMP:20260423T000049Z
UID:69e96131638ca
END:VEVENT
END:VCALENDAR