BEGIN:VCALENDAR
VERSION:2.0
PRODID:-//hacksw/handcal//NONSGML v1.0//EN
CALSCALE:GREGORIAN
BEGIN:VEVENT
SUMMARY:Jazzy - Chaos im Regenwald
DTSTART:20260421T120000Z
DTEND:20260421T135700Z
GEO:51.04384;13.73755
LOCATION:Cineplex Kristallpalast Dresden\, St. Petersburger Straße 24a\, 01069 Dresden
DESCRIPTION:
URL;VALUE=URI:http://www.umland.kika-dresden.de/termin1598910.html
DTSTAMP:20260421T092517Z
UID:69e7427d74e9a
END:VEVENT
END:VCALENDAR