BEGIN:VCALENDAR
VERSION:2.0
PRODID:-//hacksw/handcal//NONSGML v1.0//EN
CALSCALE:GREGORIAN
BEGIN:VEVENT
SUMMARY:G.O.A.T. - Bock auf Große Sprünge
DTSTART:20260418T110000Z
GEO:51.05182;13.80533
LOCATION:CinemaxX\, Hüblerstr. 8\, 01309 Dresden
DESCRIPTION:
URL;VALUE=URI:http://www.umland.kika-dresden.de/termin1599281.html
DTSTAMP:20260422T124541Z
UID:69e8c2f537ed7
END:VEVENT
END:VCALENDAR