BEGIN:VCALENDAR
VERSION:2.0
PRODID:-//hacksw/handcal//NONSGML v1.0//EN
CALSCALE:GREGORIAN
BEGIN:VEVENT
SUMMARY:Ready or Not 2
DTSTART:20260419T171500Z
DTEND:20260419T191500Z
GEO:51.05182;13.80533
LOCATION:CinemaxX\, Hüblerstr. 8\, 01309 Dresden
DESCRIPTION:
URL;VALUE=URI:http://www.umland.kika-dresden.de/termin1599344.html
DTSTAMP:20260425T102703Z
UID:69ec96f742d41
END:VEVENT
END:VCALENDAR