BEGIN:VCALENDAR
VERSION:2.0
PRODID:-//hacksw/handcal//NONSGML v1.0//EN
CALSCALE:GREGORIAN
BEGIN:VEVENT
SUMMARY:Ready or Not 2
DTSTART:20260422T181500Z
DTEND:20260422T201500Z
GEO:51.05182;13.80533
LOCATION:CinemaxX\, Hüblerstr. 8\, 01309 Dresden
DESCRIPTION:
URL;VALUE=URI:http://www.umland.kika-dresden.de/termin1599347.html
DTSTAMP:20260422T113558Z
UID:69e8b29eaca66
END:VEVENT
END:VCALENDAR