BEGIN:VCALENDAR
VERSION:2.0
PRODID:-//hacksw/handcal//NONSGML v1.0//EN
CALSCALE:GREGORIAN
BEGIN:VEVENT
SUMMARY:Kill Bill: The Whole Bloody Affair
DTSTART:20260420T173000Z
DTEND:20260420T223600Z
GEO:51.07124;13.75051
LOCATION:Filmtheater Schauburg\, Königsbrücker Straße 55\, 01099 Dresden
DESCRIPTION:
URL;VALUE=URI:http://www.umland.kika-dresden.de/termin1599356.html
DTSTAMP:20260423T122640Z
UID:69ea10001e851
END:VEVENT
END:VCALENDAR