BEGIN:VCALENDAR
VERSION:2.0
PRODID:-//hacksw/handcal//NONSGML v1.0//EN
CALSCALE:GREGORIAN
BEGIN:VEVENT
SUMMARY:The History of Sound (OmdU)
DTSTART:20260426T160000Z
DTEND:20260426T183700Z
GEO:51.06687;13.75428
LOCATION:Thalia\, Görlitzer Str. 6\, 01099 Dresden-Neustadt
DESCRIPTION:
URL;VALUE=URI:http://www.umland.kika-dresden.de/termin1599417.html
DTSTAMP:20260422T142917Z
UID:69e8db3d3e09d
END:VEVENT
END:VCALENDAR