BEGIN:VCALENDAR
VERSION:2.0
PRODID:-//hacksw/handcal//NONSGML v1.0//EN
CALSCALE:GREGORIAN
BEGIN:VEVENT
SUMMARY:Allegro Pastell
DTSTART:20260428T160000Z
DTEND:20260428T181000Z
GEO:51.052574;13.721402
LOCATION:Zentralkino\, Kraftwerk Mitte 16\, 01067 Dresden-Mitte
DESCRIPTION:
URL;VALUE=URI:http://www.umland.kika-dresden.de/termin1599477.html
DTSTAMP:20260424T234100Z
UID:69ebff8cb554b
END:VEVENT
END:VCALENDAR