BEGIN:VCALENDAR
VERSION:2.0
PRODID:-//hacksw/handcal//NONSGML v1.0//EN
CALSCALE:GREGORIAN
BEGIN:VEVENT
SUMMARY:Die Reichste Frau Der Welt
DTSTART:20260429T180000Z
DTEND:20260429T203100Z
GEO:51.052574;13.721402
LOCATION:Zentralkino\, Kraftwerk Mitte 16\, 01067 Dresden-Mitte
DESCRIPTION:
URL;VALUE=URI:http://www.umland.kika-dresden.de/termin1599490.html
DTSTAMP:20260421T175120Z
UID:69e7b9183a1f1
END:VEVENT
END:VCALENDAR