BEGIN:VCALENDAR
VERSION:2.0
PRODID:-//hacksw/handcal//NONSGML v1.0//EN
CALSCALE:GREGORIAN
BEGIN:VEVENT
SUMMARY:Rosebush Pruning
DTSTART:20260426T183000Z
DTEND:20260426T203500Z
GEO:51.052574;13.721402
LOCATION:Zentralkino\, Kraftwerk Mitte 16\, 01067 Dresden-Mitte
DESCRIPTION:
URL;VALUE=URI:http://www.umland.kika-dresden.de/termin1599496.html
DTSTAMP:20260423T101701Z
UID:69e9f19da7bc7
END:VEVENT
END:VCALENDAR