BEGIN:VCALENDAR
VERSION:2.0
PRODID:-//hacksw/handcal//NONSGML v1.0//EN
CALSCALE:GREGORIAN
BEGIN:VEVENT
SUMMARY:Rosebush Pruning
DTSTART:20260424T140000Z
DTEND:20260424T160500Z
GEO:51.052574;13.721402
LOCATION:Zentralkino\, Kraftwerk Mitte 16\, 01067 Dresden-Mitte
DESCRIPTION:
URL;VALUE=URI:http://www.umland.kika-dresden.de/termin1599498.html
DTSTAMP:20260424T182621Z
UID:69ebb5cdef3ee
END:VEVENT
END:VCALENDAR