BEGIN:VCALENDAR
VERSION:2.0
PRODID:-//hacksw/handcal//NONSGML v1.0//EN
CALSCALE:GREGORIAN
BEGIN:VEVENT
SUMMARY:Father Mother Sister Brother
DTSTART:20260428T130000Z
DTEND:20260428T152100Z
GEO:51.03911;13.80653
LOCATION:Programmkino Ost\, Schandauer Straße 73\, 01277 Dresden-Striesen
DESCRIPTION:
URL;VALUE=URI:http://www.umland.kika-dresden.de/termin1599532.html
DTSTAMP:20260423T074858Z
UID:69e9ceea6c710
END:VEVENT
END:VCALENDAR