BEGIN:VCALENDAR
VERSION:2.0
PRODID:-//hacksw/handcal//NONSGML v1.0//EN
CALSCALE:GREGORIAN
BEGIN:VEVENT
SUMMARY:Paris Murder Mystery
DTSTART:20260422T121500Z
DTEND:20260422T143200Z
GEO:51.03911;13.80653
LOCATION:Programmkino Ost\, Schandauer Straße 73\, 01277 Dresden-Striesen
DESCRIPTION:
URL;VALUE=URI:http://www.umland.kika-dresden.de/termin1599566.html
DTSTAMP:20260422T122042Z
UID:69e8bd1ad0254
END:VEVENT
END:VCALENDAR