BEGIN:VCALENDAR
VERSION:2.0
PRODID:-//hacksw/handcal//NONSGML v1.0//EN
CALSCALE:GREGORIAN
BEGIN:VEVENT
SUMMARY:Calle Málaga - Ein Zuhause in Tanger
DTSTART:20260426T133000Z
DTEND:20260426T155600Z
GEO:51.03911;13.80653
LOCATION:Programmkino Ost\, Schandauer Straße 73\, 01277 Dresden-Striesen
DESCRIPTION:
URL;VALUE=URI:http://www.umland.kika-dresden.de/termin1599581.html
DTSTAMP:20260426T014415Z
UID:69ed6def9da66
END:VEVENT
END:VCALENDAR