BEGIN:VCALENDAR
VERSION:2.0
PRODID:-//hacksw/handcal//NONSGML v1.0//EN
CALSCALE:GREGORIAN
BEGIN:VEVENT
SUMMARY:Michael
DTSTART:20260426T151500Z
DTEND:20260426T175200Z
GEO:51.03911;13.80653
LOCATION:Programmkino Ost\, Schandauer Straße 73\, 01277 Dresden-Striesen
DESCRIPTION:
URL;VALUE=URI:http://www.umland.kika-dresden.de/termin1599603.html
DTSTAMP:20260425T232521Z
UID:69ed4d619cc93
END:VEVENT
END:VCALENDAR