BEGIN:VCALENDAR
VERSION:2.0
PRODID:-//hacksw/handcal//NONSGML v1.0//EN
CALSCALE:GREGORIAN
BEGIN:VEVENT
SUMMARY:Warum ich euch nicht in die Augen schauen kann
DTSTART:20260423T070000Z
DTEND:20260423T085200Z
GEO:51.03911;13.80653
LOCATION:Programmkino Ost\, Schandauer Straße 73\, 01277 Dresden-Striesen
DESCRIPTION:
URL;VALUE=URI:http://www.umland.kika-dresden.de/termin1599617.html
DTSTAMP:20260424T073657Z
UID:69eb1d9908e95
END:VEVENT
END:VCALENDAR