BEGIN:VCALENDAR
VERSION:2.0
PRODID:-//hacksw/handcal//NONSGML v1.0//EN
CALSCALE:GREGORIAN
BEGIN:VEVENT
SUMMARY:Chronos - Fluss der Zeit
DTSTART:20260426T090000Z
DTEND:20260426T125000Z
GEO:51.03911;13.80653
LOCATION:Programmkino Ost\, Schandauer Straße 73\, 01277 Dresden-Striesen
DESCRIPTION:
URL;VALUE=URI:http://www.umland.kika-dresden.de/termin1599638.html
DTSTAMP:20260425T150515Z
UID:69ecd82b164aa
END:VEVENT
END:VCALENDAR