BEGIN:VCALENDAR
VERSION:2.0
PRODID:-//hacksw/handcal//NONSGML v1.0//EN
CALSCALE:GREGORIAN
BEGIN:VEVENT
SUMMARY:Don't put me in a box
DTSTART:20260428T174500Z
DTEND:20260428T192900Z
GEO:51.03911;13.80653
LOCATION:Programmkino Ost\, Schandauer Straße 73\, 01277 Dresden-Striesen
DESCRIPTION:
URL;VALUE=URI:http://www.umland.kika-dresden.de/termin1599655.html
DTSTAMP:20260426T014647Z
UID:69ed6e87e360c
END:VEVENT
END:VCALENDAR